Workbook

Sheet Menu
G1: Energy Analysis and Calculation Program
G2: Air Conditioning and Chill Water System
G3: Version 1.0 Developed By
G4: Energenuis Co.Ltd
C8: แบบฟอร์มที่ 1 การประมาณต้นทุนพลังงานระบบฯ
C9: แบบฟอร์มที่ 2 การวัดขนาดถังพักลม
C10: แบบฟอร์มที่ 3 การคำนวณ ประสิทธิภาพเครื่องอัดอากาศ
C11: แบบฟอร์มที่ 4 การเปลี่ยนเครื่องอัดอากาศ
C12: แบบฟอร์มที่ 5 การคำนวณประสิทธิภาพการส่งอากาศอัด
C13: แบบฟอร์มที่ 6 การคำนวณการซ่อมอากาศอัดรั่ว
C14: แบบฟอร์มที่ 7 แบบสำรวจความดันอากาศอัด
C15: แบบฟอร์มที่ 8 การคำนวณการลดความดันอากาศอัด
C16: แบบฟอร์มที่ 9 การคำนวณการลดอุณหภูมิเข้าเครื่องอัดอากาศ
C17: แบบฟอร์มที่ 10 การคำนวณการลดการเดินเครื่องตัวเปล่า
C18: แบบฟอร์มที่ 11 การคำนวณการลดความสูญเปล่าเมื่อปิดสายการผลิต

Sheet Form 1
C1: แบบฟอร์มที่ 1 การประมาณ ต้นทุนพลังงานระบบอากาศอัด
C3: พลังงานที่ใช้ในระบบอัดอากาศทั้งปี | D3: สัญลักษณ์ | E3: ค่า | F3: หน่วย
C4: เครื่องที่ 1
C5: รอบการทำงานของเครื่องอัดอากาศ (Cycle) | D5: C1 | E5: 0 | F5: %
C6: กำลังไฟฟ้า (กิโลวัตต์, kilowatt:kW) | D6: Pw1 | E6: 0 | F6: kW
C7: เครื่องที่ 2
C8: รอบการทำงานของเครื่องอัดอากาศ (Cycle) | D8: C2 | E8: 0 | F8: %
C9: กำลังไฟฟ้า (กิโลวัตต์, kilowatt:kW) | D9: Pw2 | E9: 0 | F9: kW
C10: เครื่องที่ 3
C11: รอบการทำงานของเครื่องอัดอากาศ (Cycle) | D11: C3 | E11: 0 | F11: %
C12: กำลังไฟฟ้า (กิโลวัตต์, kilowatt:kW) | D12: Pw3 | E12: 0 | F12: kW
C13: เครื่องที่ 4
C14: รอบการทำงานของเครื่องอัดอากาศ (Cycle) | D14: C4 | E14: 0 | F14: %
C15: กำลังไฟฟ้า (กิโลวัตต์, kilowatt:kW) | D15: Pw4 | E15: 0 | F15: kW
C17: ระยะเวลาทำงานเครือ่งอัดอากาศ | D17: H | E17: 0 | F17: ชั่วโมงต่อวัน
C18: วันทำงานใน 1 ปี | D18: DY | E18: 0 | F18: วันต่อปี
C20: พลังงานไฟฟ้าที่ใช้
C21: Eu=((C1xPw1)+(C2xPw2)+(C3xPw3)+(C4xPw4))xHxDY | D21: Eu | E21: =IFERROR((E5*E6+E8*E9+E11*E12+E14*E15)*E17*E18/100,"") -> 0 | F21: หน่วยต่อปี
C22: อัตราค่าไฟฟ้า | D22: B | E22: 0 | F22: บาทต่อหน่วย
C23: กรูณาตรวจวัดและเติมค่าในช่องสีเหลือง
C24: ค่าใช้จ่ายไฟฟ้า
C25: cost=Eu x B | D25: cost | E25: =IFERROR(E21*E22,"") -> 0 | F25: บาทต่อปี
C27: หมายเหตุ ทางโรงงานติดตั้งมิเตอร์วัดการใช้พลังงานของระบบอัดอากาศ หรือ
C28: ประมาณการ ต้นทุนพลังงงานของระบบอัดอากาสจากการตรวจวัดและกรอกข้อมูลในช่องสีเหลือง

Sheet Form 2
C1: แบบฟอร์มที่ 2 การวัดขนาดถังพักลม
C3: วัดขนาดเส้นรอบวงเพื่อหาเส้นผ่าศูนย์กลาง | D3: สัญลักษณ์ | E3: ค่า | F3: หน่วย
C4: ขนาดเส้นรอบวงถังพักลม | D4: L | E4: 0 | F4: เซนติเมตร
C5: ประมาณความหนาของถัง | D5: t | E5: 0 | F5: มิลลิเมตร
C6: เส้นผ่าศูนย์กลางภายใน | D6: สัญลักษณ์ | E6: ค่า | F6: หน่วย
C7: d = (L/p) - 2t/10 | D7: d | E7: 0 | F7: เซนติเมตร
C8: หาปริมาตรถังช่วงทรงกระบอก | D8: สัญลักษณ์ | E8: ค่า | F8: หน่วย
C9: ความสูงของถังช่วงทรงกระบอก | D9: h1 | E9: 0 | F9: เซนติเมตร
C10: ปริมาตรถังช่วงทรงกระบอก
C11: V1 = [p x h1 x d2/4] / 1,000 | D11: V1 | E11: 0 | F11: ลิตร
C12: หาปริมาตรถังช่วงบน | D12: สัญลักษณ์ | E12: ค่า | F12: หน่วย
C13: ความสูงของถังส่วนบน | D13: h2 | E13: 0 | F13: เซนติเมตร
C14: ปริมาตรถังส่วนบน
C15: V2 = p x h2 x (d2/4) x 2 / 3 / 1,000 | D15: V2 | E15: =IFERROR(3.1416*E13*E7*E7*2/12000,"") -> 0 | F15: ลิตร
C16: หาปริมาตรถังส่วนล่าง | D16: สัญลักษณ์ | E16: ค่า | F16: หน่วย
C17: ความสูงของถังส่วนล่าง | D17: h3 | E17: 0 | F17: เซนติเมตร
C18: ปริมาตรถังส่วนล่าง
C19: V3 = p x h3 x (d2/4) x 2 / 3 / 1,000 | D19: V3 | E19: =IFERROR(3.1416*E17*E7*E7*2/12000,"") -> 0 | F19: ลิตร
C20: ปริมาตรถังทั้งหมด | D20: สัญลักษณ์ | E20: ค่า | F20: หน่วย
C21: Vtotal = V1 + V2 + V3 | D21: Vtotal | E21: =IFERROR(E11+E15+E19,"") -> 0 | F21: ลิตร
C23: หมายเหตุ โดยทั่วไปถังพักลมมีความหนาประมาณ 7 - 10 มิลลิเมตร

Sheet Form 3
C1: แบบฟอร์มที่ 3 การคำนวณ ประสิทธิภาพเครื่องอัดอากาศ
D3: สัญลักษณ์ | E3: ค่า | F3: หน่วย
C4: ขนาดถังพักอากาศอัด และท่อถึงถังอัดอากาศ | D4: Vp | E4: 0 | F4: ลิตร
C5: ค่าตั้งความดันตัด (off) | D5: Poff | E5: 0 | F5: บาร์
C6: ค่าตั้งความดันต่อ(on) | D6: Pon | E6: 0 | F6: บาร์
C8: ทดสอบเวลาในการอัด
C9: ครั้งที่ 1 | D9: สัญลักษณ์ | E9: ค่า | F9: หน่วย
C10: เวลา (วินาที) | D10: T | E10: 0 | F10: วินาที
C11: กำลังไฟฟ้า (กิโลวัตต์, kilowatt:kW) | D11: Pw | E11: 0 | F11: kW
C12: ครั้งที่ 2 | D12: สัญลักษณ์ | E12: ค่า | F12: หน่วย
C13: เวลา (วินาที) | D13: T | E13: 0 | F13: วินาที
C14: กำลังไฟฟ้า (กิโลวัตต์, kilowatt:kW) | D14: Pw | E14: 0 | F14: kW
C15: ครั้งที่ 3 | D15: สัญลักษณ์ | E15: ค่า | F15: หน่วย
C16: เวลา (วินาที) | D16: T | E16: 0 | F16: วินาที
C17: กำลังไฟฟ้า (กิโลวัตต์, kilowatt:kW) | D17: Pw | E17: 0 | F17: kW
D18: สัญลักษณ์ | E18: ค่า | F18: หน่วย
C19: เวลา (วินาที) | D19: T | E19: 0 | F19: วินาที
C20: กำลังไฟฟ้า (กิโลวัตต์, kilowatt:kW) | D20: Pw | E20: 0 | F20: kW
C21: ครั้งที่ 5 | D21: สัญลักษณ์ | E21: ค่า | F21: หน่วย
C22: เวลา (วินาที) | D22: T | E22: 0 | F22: วินาที
C23: กำลังไฟฟ้า (กิโลวัตต์, kilowatt:kW) | D23: Pw | E23: 0 | F23: kW
C24: ค่าเฉลี่ย | D24: สัญลักษณ์ | E24: ค่า | F24: หน่วย
C25: เวลา (วินาที) | D25: T | E25: 0 | F25: วินาที
C26: กำลังไฟฟ้า (กิโลวัตต์, kilowatt:kW) | D26: Pw | E26: 0 | F26: kW
C28: อุณหภูมิ และความดันถังก่อนหลังทดสอบ
C29: อุณหภูมิบรรยากาศในห้องขณะทดสอบ | D29: TR | E29: 0 | F29: องศาเซลเซียส
C30: ความดันในถังเริ่มต้น | D30: PT1 | E30: 0 | F30: Bar
C31: ความดันในถัง สุดท้าย (ที่อุณหภูมิอากาศเท่าเดิม) | D31: PT2 | E31: 0 | F31: Bar | G31: อ่านค่าหลังจาก รอจนกระทั่งอุณหภูมิในถังลดลงจนเท่ากับอุณหภูมิห้อง
C33: ปริมาณอากาศอัดที่ผลิตได้(ทดสอบ) | D33: สัญลักษณ์ | E33: ค่า | F33: หน่วย
C34: AP= V x (PT2-PT1)/(Tx1.013) | D34: AP | E34: =IFERROR(E4*(E31-E30)/E25/1.013,"") | F34: ลิตรต่อวินาที
C35: AP ที่อุณหภูมิ ความดันมาตรฐาน(FAD:Free Air Delivery) | D35: APs=APx293/(TR+273) | E35: =IFERROR(E34*(293)/(E29+273),"") | F35: ลิตรต่อวินาที
C37: ประสิทธิภาพเครื่องอัดอากาศ | D37: สัญลักษณ์ | E37: ค่า | F37: หน่วย
C38: AE=AP/Pw | D38: AE | E38: =IFERROR(E34/E26,"") | F38: ลิตรต่อวินาทีต่อกิโลวัตต์ | H38: =1/E38 -> #VALUE!
C39: AEs=APs/Pw | D39: AE | E39: =IFERROR(E35/E26,"") | F39: ลิตรต่อวินาทีต่อกิโลวัตต์
C40: กรุณาตรวจวัดและเติมค่าในช่องสีเหลือง
C42: จัดทำวิธีปฏิบัติงาน เดินเครื่องอัดอากาศประสิทธิภาพสูงก่อน

Sheet Form 4
C1: แบบฟอร์มที่ 4 การคำนวณ การเปลี่ยนเครื่องอัดอากาศ
C3: เครื่องอัดอากาศเครื่องที่ต้องการเปลี่ยน(เดิม) | D3: สัญลักษณ์ | E3: ค่า | F3: หน่วย
C4: ประสิทธิภาพเครื่องอัดากาศ (เดิม) | D4: AEs1 | E4: 0 | F4: ลิตรต่อวินาทีต่อกิโลวัตต์
C5: อัตราการตัดต่อเครื่องอัดอากาศ | D5: Duty cycle | E5: 0 | F5: %
C6: ระยะเวลาทำงานเครือ่งอัดอากาศ | D6: H | E6: 0 | F6: ชั่วโมงต่อวัน
C7: วันทำงาน ใน 1 ปี | D7: DY | E7: 0 | F7: วันต่อปี
C8: กำลังไฟฟ้า (กิโลวัตต์, kilowatt:kW) | D8: Pw | E8: 0 | F8: กิโลวัตต์(kW)
C9: พลังงานไฟฟ้าที่ใช้
C10: Eu=(Duty cycle) x H x DY x Pw | D10: Eu | E10: =IFERROR(E5*E6*E7*E8/100,"") -> 0 | F10: หน่วยต่อปี
C11: อัตราค่าไฟฟ้า | D11: B | E11: 0 | F11: บาทต่อหน่วย
C13: ค่าใช้จ่ายไฟฟ้า | D13: สัญลักษณ์ | E13: ค่า | F13: หน่วย
C14: cost=Eu x B | D14: cost | E14: =IFERROR(E10*E11,"") -> 0 | F14: บาทต่อปี
C16: ประสิทธิภาพเครื่องอัดอากาศใหม่ | D16: สัญลักษณ์ | E16: ค่า | F16: หน่วย
C17: ประสิทธิภาพเครื่องอัดอากาศ (ใหม่) | D17: AEs2 | E17: 0 | F17: ลิตรต่อวินาทีต่อกิโลวัตต์
C18: พลังงานไฟฟ้าประหยัดได้ (Energy Saving)
C19: ES = Eu x (1-AEs1/AEs2) | D19: ES | E19: =IFERROR(E10*(1-E4/E17),"") | F19: หน่วยต่อปี
C21: ค่าใช้จ่ายพลังงานไฟฟ้าประหยัดได้ (Cost Saving) | D21: สัญลักษณ์ | E21: ค่า | F21: หน่วย
C22: CS = ES x B | D22: CS | E22: =IFERROR(E19*E11,"") | F22: บาทต่อปี
C24: เงินลงทุนในการเปลี่ยนเครื่องอัดอากาศใหม่ | D24: I | E24: 0 | F24: บาท
C26: ระยะเวลาการคืนทุน | D26: สัญลักษณ์ | E26: ค่า | F26: หน่วย
C27: PB = I / CS | D27: PB | E27: =IFERROR(E24/E22,"") | F27: ปี
C29: กรุณาตรวจวัดและเติมค่าในช่องสีเหลือง

Sheet Form 5
C1: แบบฟอร์มที่ 5 การคำนวณ ประสิทธิภาพการส่งอากาศอัด (รั่ว)
C3: ปริมาณอากาศอัดที่ใช้ เมื่อเปิดสายการผลิต
C4: เครื่องที่ 1 | D4: สัญลักษณ์ | E4: ค่า | F4: หน่วย
C5: ประสิทธิภาพเครื่องอัดากาศ | D5: AE1 | E5: 0 | F5: ลิตรต่อวินาทีต่อกิโลวัตต์
C6: เวลาในขณะที่เครื่องอัดอากาศทำงาน (Load) | D6: TL1 | E6: 0 | F6: วินาที | I6: กรอก TL และ TU ทุกเครื่อง (ไม่เป็น 0)
C7: เวลาในขณะที่เครื่องอัดอากาศเดินตัวเปล่า (Unload) | D7: TU1 | E7: 0 | F7: วินาที | I7: แต่เครื่องไม่ได้เปิด ให้กรอก Pw = 0
C8: รอบการทำงานของเครื่องอัดอากาศ (Cycle) | D8: C1 | E8: =IFERROR((E6*100)/(E6+E7),"") | F8: %
C9: กำลังไฟฟ้า (กิโลวัตต์, kilowatt:kW) | D9: Pw1 | E9: 0 | F9: kW
C10: เครื่องที่ 2
C11: ประสิทธิภาพเครื่องอัดากาศ | D11: AE2 | E11: 0 | F11: ลิตรต่อวินาทีต่อกิโลวัตต์
C12: เวลาในขณะที่เครื่องอัดอากาศทำงาน (Load) | D12: TL2 | E12: 0 | F12: วินาที
C13: เวลาในขณะที่เครื่องอัดอากาศเดินตัวเปล่า (Unload) | D13: TU2 | E13: 0 | F13: วินาที
C14: รอบการทำงานของเครื่องอัดอากาศ (Cycle) | D14: C2 | E14: =IFERROR((E12*100)/(E12+E13),"") | F14: %
C15: กำลังไฟฟ้า (กิโลวัตต์, kilowatt:kW) | D15: Pw2 | E15: 0 | F15: kW
C16: เครื่องที่ 3
C17: ประสิทธิภาพเครื่องอัดากาศ | D17: AE3 | E17: 0 | F17: ลิตรต่อวินาทีต่อกิโลวัตต์
C18: เวลาในขณะที่เครื่องอัดอากาศทำงาน (Load) | D18: TL3 | E18: 0 | F18: วินาที
C19: เวลาในขณะที่เครื่องอัดอากาศเดินตัวเปล่า (Unload) | D19: TU3 | E19: 0 | F19: วินาที
C20: รอบการทำงานของเครื่องอัดอากาศ (Cycle) | D20: C3 | E20: =IFERROR((E18*100)/(E18+E19),"") | F20: %
C21: กำลังไฟฟ้า (กิโลวัตต์, kilowatt:kW) | D21: Pw3 | E21: 0 | F21: kW
C22: เครื่องที่ 4
C23: ประสิทธิภาพเครื่องอัดากาศ | D23: AE4 | E23: 0 | F23: ลิตรต่อวินาทีต่อกิโลวัตต์
C24: เวลาในขณะที่เครื่องอัดอากาศทำงาน (Load) | D24: TL4 | E24: 0 | F24: วินาที
C25: เวลาในขณะที่เครื่องอัดอากาศเดินตัวเปล่า (Unload) | D25: TU4 | E25: 0 | F25: วินาที
C26: รอบการทำงานของเครื่องอัดอากาศ (Cycle) | D26: C4 | E26: =IFERROR((E24*100)/(E24+E25),"") | F26: %
C27: กำลังไฟฟ้า (กิโลวัตต์, kilowatt:kW) | D27: Pw4 | E27: 0 | F27: kW
C28: เครื่องที่ไม่ได้เปิด ให้ใส่กำลังไฟฟ้าเป็น 0 (ศูนย์)
C29: ปริมาณอากาศอัดที่ใช้
C30: AU=(AE1) x (Pw1) x (C1) + (AE2) x (Pw2) x (C2) + …… | D30: AU | E30: =IFERROR((E5*E8*E9/100)+(E11*E14*E15/100)+(E17*E20*E21/100)+(E23*E26*E27/100),"") | F30: ลิตรต่อวินาที
C32: ปริมาณอากาศอัดที่ใช้ เมื่อปิดสายการผลิต
C33: เครื่องที่ 1 | D33: สัญลักษณ์ | E33: ค่า | F33: หน่วย
C34: ประสิทธิภาพเครื่องอัดากาศ | D34: AE1 | E34: 0 | F34: ลิตรต่อวินาทีต่อกิโลวัตต์
C35: เวลาในขณะที่เครื่องอัดอากาศทำงาน (Load) | D35: TL1 | E35: 0 | F35: วินาที
C36: เวลาในขณะที่เครื่องอัดอากาศเดินตัวเปล่า (Unload) | D36: TU1 | E36: 0 | F36: วินาที
C37: รอบการทำงานของเครื่องอัดอากาศ (Cycle) | D37: C1 | E37: =IFERROR((E35*100)/(E35+E36),"") | F37: %
C38: กำลังไฟฟ้า (กิโลวัตต์, kilowatt:kW) | D38: Pw1 | E38: 0 | F38: kW
C39: เครื่องที่ 2
C40: ประสิทธิภาพเครื่องอัดากาศ | D40: AE2 | E40: 0 | F40: ลิตรต่อวินาทีต่อกิโลวัตต์
C41: เวลาในขณะที่เครื่องอัดอากาศทำงาน (Load) | D41: TL2 | E41: 0 | F41: วินาที
C42: เวลาในขณะที่เครื่องอัดอากาศเดินตัวเปล่า (Unload) | D42: TU2 | E42: 0 | F42: วินาที
...

Sheet Form 6
C1: แบบฟอร์มที่ 6 การคำนวณ การซ่อมการรั่วไหล
C3: การลดการรั่ว | D3: สัญลักษณ์ | E3: ค่า | F3: หน่วย
C4: พลังงานที่ระบบอากาศอัดใช้ต่อปี | D4: Eu | E4: =IFERROR('Form 1'!E21,"") -> 0 | F4: หน่วยต่อปี
C5: ต้นทุนพลังงานระบบอากาศอัด ต่อปี | D5: cost | E5: =IFERROR('Form 1'!E25,"") -> 0 | F5: บาทต่อปี
C6: หมายเหตุ ข้อมูลพลังงานที่ใช้ในระบบอากาศอัดประเมินได้จาก Form 1 หรือใช้มิเตอร์
C7: ติดตั้งเพื่อตรวจวัดพลังงานของระบบอากาศอัด
C8: ประสิทธิภาพการส่งอากาศเดิม | D8: Tr1 | E8: 0 | F8: %
C9: ประสิทธิภาพการส่งอากาศเป้าหมาย | D9: Tr2 | E9: 0 | F9: %
C11: ปริมาณอากาศอัดที่ใช้ | D11: AU | E11: ='Form 5'!E30 | F11: ลิตรต่อวินาที
C12: ปริมาณอากาศอัดที่ใช้ เมื่อรั่ว | D12: AL | E12: ='Form 5'!E59 | F12: ลิตรต่อวินาที
C14: ปริมาณอากาศอัด ใช้งานจริง | D14: AM=AU-AL | E14: =IFERROR(E11-E12,"") | F14: ลิตรต่อวินาที
C15: ปริมาณอากาศอัดรั่ว ตามเป้าหมาย | D15: ALT=AM(100-Tr2) | E15: =IFERROR(E14*(100-E9)/100,"") | F15: ลิตรต่อวินาที
C16: ปริมาณอากาศอัดรั่ว ที่ลดลงได้ | D16: ALS=AL-ALT | E16: =IFERROR(E12-E15,"") | F16: ลิตรต่อวินาที
C19: ประสิทธิภาพเครื่องอัดากาศ | D19: AE1 | E19: 0 | F19: ลิตรต่อวินาทีต่อกิโลวัตต์
C20: กำลังไฟฟ้าที่ใช้สำหรับอากาศอัดรั่ว(เทียบเท่า) | D20: PS=ALS/AE1 | E20: =IFERROR(E16/E19,"") | F20: kW
C21: จำนวน ชม ทำงานต่อวัน | D21: H | E21: 0 | F21: ชมต่อวัน
C22: จำนวนวันทำงานต่อปี | D22: DY | E22: 0 | F22: วันต่อปี
C24: พลังงานสูญเสีย ลดลง
C25: EL=PS x H x DY | D25: EL | E25: =IFERROR(E20*E21*E22,"") | F25: หน่วยต่อปี
C27: ค่าใช้จ่ายพลังงานไฟฟ้าสูญเสีย
C28: อัตราค่าไฟฟ้า | D28: B | E28: 0 | F28: บาทต่อหน่วย
C29: CL = EL x B | D29: CL | E29: =IFERROR(E25*E28,"") | F29: บาทต่อปี
C31: เงินลงทุนในการปรับปรุง | D31: I | E31: 0 | F31: บาท
C33: ระยะเวลาการคืนทุน
C34: PB = I / CS | D34: PB | E34: =IFERROR(E31/E29,"") | F34: ปี

Sheet Form 7
C1: แบบฟอร์มที่ 7 แบบสำรวจความดันอากาศอัด
C3: ลำดับที่ | D3: กระบวนการ | E3: ความดันที่ใช้งาน (บาร์) | F3: ลักษณะการใช้ประโยชน์อากาศอัด | G3: ประเมินความเหมาะสม
C4: 1 | D4: เชื่อมตัวถังรถ | E4: 0 | F4: ขับเคลื่อนอุปกรณ์ลม
C5: 2 | D5: ล้างไขมัน | E5: 0 | F5: ขับเคลื่อนกระบอกลม
C6: 3
C7: 4
C8: 5
C9: 6 | E9: 0
C10: 4
C11: 5
C12: 6
C13: 7
C14: 8
C15: 9
C16: 10
C17: 11
C18: 12
C19: 13
C20: 14
C21: 15
... C28: 22
C29: ความดันใช้งานสูงสุด | E29: 0
C31: การประเมินความเหมาะสม
C33: o พิจารณาความต้องการความดันใช้งานของแต่ละอุปกรณ์จากคู่มือของแต่ละอุปกรณ์
C34: o พิจารณาใช้พัดลมหรือเครื่องเป่าอากาศไฟฟ้าแทนการใช้อากาศอัดในการเป่า
C35: o หลีกเลี่ยงการซื้ออุปกรณ์ที่ใช้อากาศอัดความดันสูงกว่าความดันใช้งานในโรงงาน
C36: o พิจารณาใช้หัวพ่นอากาศอัดประสิทธิภาพสูงแทนการใช้หัวพ่นทั่วๆไป จะช่วยลดการสูญเสียอากาศอัด
C37: o ใช้พลาสติกสายอ่อนที่มีผิวภายในเรียบและมีขนาดที่เหมาะสมกับเครื่องมือต่างๆ เพื่อลดความดันตกคร่อม
C38: o ใช้อุปกรณ์เพิ่มความดัน (Booster pump) ต่อเข้ากับอุปกรณ์ที่ต้องการอากาศอัดที่มีความดันสูง
C39: o ไม่ใช้อากาศอัดเป่าทำความสะอาดตามร่างกายของคนงานหรือเครื่องจักร
C40: o ใช้อุปกรณ์ปิดอากาศอัดอัตโนมัติ เช่น Solenoid Valve ของท่ออากาศ เพื่อให้ปิดท่ออากาศเมื่อหยุดใช้งานเครื่องจักร

Sheet Form 8
C1: แบบฟอร์มที่ 8 การคำนวณ การลดความดันเครื่องอัดอากาศ
D3: สัญลักษณ์ | E3: ค่า | F3: หน่วย
C4: พลังงานที่ระบบอากาศอัดใช้ต่อปี | D4: Eu | E4: ='Form 1'!E21 -> 0 | F4: หน่วยต่อปี
C5: ต้นทุนพลังงานระบบอากาศอัด ต่อปี | D5: cost | E5: ='Form 1'!E25 -> 0 | F5: บาทต่อปี
C6: หมายเหตุ ข้อมูลพลังงานที่ใช้ในระบบอากาศอัดประเมินได้จาก Form 1 หรือใช้มิเตอร์
C7: ติดตั้งเพื่อตรวจวัดพลังงานของระบบอากาศอัด
C8: ก่อนก่อนลดความดัน
C9: กำลังไฟฟ้ารวมที่ใช้ ช่วง Onload | D9: PW1 | E9: 0 | F9: kW
C10: ค่าตั้งความดันเดิม ด้านต่ำ | D10: P1min | E10: 0 | F10: บาร์
C11: ค่าตั้งความดันเดิม ด้านสูง | D11: P1max | E11: 0 | F11: บาร์
C12: ค่าตั้งความดันเดิม เฉลี่ย | D12: P1Av | E12: =IFERROR((E10+E11)/2,"") -> 0 | F12: บาร์
C13: ความดันสัมบูรณ์ของอากาศเข้าเครื่องอัดอากาศ (บาร์) | D13: Pin | E13: 1.013 | F13: บาร์ | G13: ค่า | H13: 1.013 | I13: บาร์
C14: อัตราส่วนความร้อนจำเพาะสำหรับอากาศ (ค่าคงที่) | D14: k | E14: 1.4
C15: จำนวนขั้นตอนการอัด (stage) ของเครื่องอัดอากาศ | D15: i | E15: 1 | F15: Stage
C16: หลังการลดความดัน
C17: ค่าตั้งความดันใหม่ ด้านต่ำ | D17: P2min | E17: 0 | F17: บาร์
C18: ค่าตั้งความดันใหม่ ด้านสูง | D18: P2max | E18: 0 | F18: บาร์
C19: ค่าตั้งความดันใหม่ เฉลี่ย | D19: P2Av | E19: =IFERROR((E17+E18)/2,"") -> 0 | F19: บาร์
C20: การคำนวณผลประหยัด
C21: ค่ากำลังไฟฟ้า PW2 = PW1 x{(P2Av/Pin)^[(k-1)/(ik)]-1}/{(P1Av/Pin)^[(k-1)/(ik)]-1} | D21: PW2 | E21: =E9*((E19/E13)^((E14-1)/(E15*E14))-1)/((E12/E13)^((E14-1)/(E15*E14))-1) -> 0 | F21: kW
C22: กำลังไฟฟ้ารวมที่ใช้ ช่วง Onload ลดลง | D22: PWS=PW1-PW2 | E22: =E9-E21 -> 0 | F22: kW | H22: =E22/E9 -> #DIV/0!
C23: จำนวน ชม การ Onload เฉลี่ยต่อปี | D23: LYav | E23: 0 | F23: ชมต่อปี
C24: พลังงานไฟฟ้าประหยัดได้ (Energy Saving)
C25: ES = PWS x LYav | D25: ES | E25: =E22*E23 -> 0 | F25: หน่วยต่อปี
C27: ค่าใช้จ่ายพลังงานไฟฟ้าประหยัดได้ (Cost Saving)
C28: อัตราค่าไฟฟ้า | D28: B | E28: 0 | F28: บาทต่อหน่วย
C29: CS = ES x B | D29: CS | E29: =E25*E28 -> 0 | F29: บาทต่อปี
C31: เงินลงทุนในการปรับปรุงท่อ ถังพัก ฯลฯ | D31: I | E31: 0 | F31: บาท
C33: ระยะเวลาการคืนทุน
C34: PB = I / CS | D34: PB | E34: =IFERROR(E31/E29,"") | F34: ปี

Sheet Form 9
C1: แบบฟอร์มที่ 9 การคำนวณการลดอุณหภูมิเข้าเครื่องอัดอากาศ
D3: สัญลักษณ์ | E3: ค่า | F3: หน่วย
C4: พลังงานที่ระบบอากาศอัดใช้ต่อปี | D4: Eu | E4: ='Form 1'!E21 -> 0 | F4: หน่วยต่อปี
C5: ต้นทุนพลังงานระบบอากาศอัด ต่อปี | D5: cost | E5: ='Form 1'!E25 -> 0 | F5: บาทต่อปี
C6: หมายเหตุ ข้อมูลพลังงานที่ใช้ในระบบอากาศอัดประเมินได้จาก Form 1 หรือใช้มิเตอร์
C7: ติดตั้งเพื่อตรวจวัดพลังงานของระบบอากาศอัด
C8: ก่อนการลดอุณหภูมิ
C9: กำลังไฟฟ้ารวมที่ใช้ ช่วง Onload | D9: PW1 | E9: 0 | F9: kW
C10: ค่าอูณหภูมิในห้องก่อนปรับปรุง(เดิม) | D10: T1 | E10: 0 | F10: องศาเซลเซียส
E11: =E10+273 -> 273 | F11: องศาเคนวิน
C12: ค่าตั้งความดัน เฉลี่ย | D12: P1Av | E12: 0 | F12: บาร์
C13: ความดันสัมบูรณ์ของอากาศเข้าเครื่องอัดอากาศ (บาร์) | D13: Pin | E13: 1.013 | F13: บาร์ | G13: ค่า | H13: 1.0113 | I13: บาร์
C14: อัตราส่วนความร้อนจำเพาะสำหรับอากาศ (ค่าคงที่) | D14: k | E14: 1.4
C15: จำนวนขั้นตอนการอัด (stage) ของเครื่องอัดอากาศ | D15: i | E15: 1 | F15: Stage
C16: หลังการลดอุณหภูมิ
C17: ค่าอูณหภูมิในห้องหลังปรับปรุง(ใหม่) | D17: T2 | E17: 0 | F17: องศาเซลเซียส
E18: =E17+273 -> 273 | F18: องศาเคนวิน
C19: ค่าตั้งความดัน เฉลี่ย | D19: P2Av | E19: 0 | F19: บาร์
C20: การคำนวณผลประหยัด
C21: ค่ากำลังไฟฟ้า PW2 = PW1 x (T2/T1) x {(P2Av/Pin)^[(k-1)/(ik)]-1}/{(P1Av/Pin)^[(k-1)/(ik)]-1} | D21: PW2 | E21: =E9*(E18/E11)*((E19/E13)^((E14-1)/(E15*E14))-1)/((E12/E13)^((E14-1)/(E15*E14))-1) -> 0 | F21: kW
C22: กำลังไฟฟ้ารวมที่ใช้ ช่วง Onload ลดลง | D22: PWS=PW1-PW2 | E22: =E9-E21 -> 0 | F22: kW | H22: =E22/E9 -> #DIV/0!
C23: จำนวน ชม การ Onload เฉลี่ยต่อปี | D23: LYav | E23: 0 | F23: ชมต่อปี
C24: พลังงานไฟฟ้าประหยัดได้ (Energy Saving)
C25: ES = PWS x LYav | D25: ES | E25: =E22*E23 -> 0 | F25: หน่วยต่อปี
C27: ค่าใช้จ่ายพลังงานไฟฟ้าประหยัดได้ (Cost Saving)
C28: อัตราค่าไฟฟ้า | D28: B | E28: 0 | F28: บาทต่อหน่วย
C29: CS = ES x B | D29: CS | E29: =E25*E28 -> 0 | F29: บาทต่อปี
C31: เงินลงทุนในการปรับปรุงท่อ ถังพัก ฯลฯ | D31: I | E31: 0 | F31: บาท
C33: ระยะเวลาการคืนทุน
C34: PB = I / CS | D34: PB | E34: =IFERROR(E31/E29,"") | F34: ปี

Sheet Form 10
C1: แบบฟอร์มที่ 10 การคำนวณการลดการเดินเครื่องตัวเปล่าของเครื่องอัดอากาศ
C3: การลดการเดินเครื่องตัวเปล่า | D3: สัญลักษณ์ | E3: ค่า | F3: หน่วย
C4: รอบการทำงานของเครื่องอัดอากาศ (Cycle) | D4: C | E4: 0 | F4: % | G4: กรูณา ดู sheet การประเมินต้นทุนพลังงาน
C5: กำลังไฟฟ้าเครื่องอัดอากาศ ตาม Spec ของเครื่องที่เดินตัวเปล่า | D5: Ps | E5: 0 | F5: kW
C6: กำลังไฟฟ้าเครื่องอัดอากาศที่เดินตัวเปล่า | D6: Pw | E6: 0 | F6: kW
C7: อัตราการเดินเครื่องตัวเปล่า
C8: Unload (U) = 100-C | D8: U | E8: =100-E4 -> 100 | F8: %
C9: ชัวโมงการเปิดใช้งานเครื่องอัดอากาศที่เดินตัวเปล่า | D9: H | E9: 0 | F9: ชั่วโมงต่อวัน
C10: จำนวนวันเปิดใช้งานต่อปี | D10: DY | E10: 0 | F10: วันต่อปี
C12: พลังงานที่สูญเสีย
C13: EL=U x Pw x H x DY | D13: EL | E13: =IFERROR(E8*E6*E9*E10/100,"") -> 0 | F13: หน่วยต่อปี
C15: ค่าใช้จ่ายพลังงานไฟฟ้าสูญเสีย | G15: ต้นทุนค่าไฟฟ้า ดู sheet การประเมินต้นทุน
C16: อัตราค่าไฟฟ้า | D16: B | E16: 0 | F16: บาทต่อหน่วย
C17: CL = EL x B | D17: CL | E17: =IFERROR(E13*E16,"") -> 0 | F17: บาทต่อปี
C19: แนะนำ เปลี่ยนเครื่องอัดอากาศแบบลูกสูบ หรือ แบบอินเวอร์เตอร์ขนาด | G19: ค่าคำนวณ เลือกเครื่องอัดอากาศที่เหมาะสม
C20: Pn=1.5 x U x Pw (เผื่อขนาด 1.5 เท่า) | D20: Pn | E20: =IFERROR(1.5 * E5*E4/100,"") -> 0 | F20: kW

Sheet Form 11
C1: แบบฟอร์มที่ 11 การคำนวณการลดความสูญเปล่าเมื่อปิดสายการผลิต
C3: การลดความสูญเปล่าเมื่อปิดสายการผลิต | D3: สัญลักษณ์ | E3: ค่า | F3: หน่วย
C4: เวลาในการอัดอากาศเมื่อเริ่มการผลิต(ไม่ปิดวาล์วจ่ายออกจากถัง) | D4: T | E4: 0 | F4: นาที
C5: กำลังไฟฟ้าเครื่องอัดอากาศ | D5: Pw | E5: 0 | F5: kW
C6: จำนวนครั้งเริ่มเปิดใช้งานต่อปี | D6: DY | E6: 0 | F6: ครั้งต่อปี
C8: พลังงานที่สูญเสีย
C9: EL=T x (1/60) x Pw x DY | D9: EL | E9: =IFERROR(E4*(1/60)*E5*E6,"") -> 0 | F9: หน่วยต่อปี
C11: ค่าใช้จ่ายพลังงานไฟฟ้าสูญเสีย
C12: อัตราค่าไฟฟ้า | D12: B | E12: 0 | F12: บาทต่อหน่วย
C13: CL = EL x B | D13: CL | E13: =IFERROR(E9*E12,"") -> 0 | F13: บาทต่อปี
C15: ติดตั้งวาล์ว และกำหนดผู้รับผิดชอบปิดวาล์วหลังเลิกงาน

Sheet Form 12
C1: แบบฟอร์มที่ 12 ปัจจัยที่มีผลต่อประสิทธิภาพระบบอัดอากาศ
C3: ลำดับ | D3: ปัจจัย และค่าเกณฑ์ที่แนะนำ | E3: ความถึ่ในการตรวจวัด | F3: ค่าตามเกณฑ์ | G3: ค่าจากการตรวจวัด | H3: ผลการประเมิน (ผ่าน- ไม่ผ่าน) | I3: แนวทางการแก้ไข
C4: 1 | D4: ประสิทธิภาพพลังงานเครื่องอัดอากาศ (อากาศอัดที่ได้เทียบกับพลังงานไฟฟ้าที่ใช้) ควรสูงกว่า 80 % ของประสิทธิภาพพลังงานเครื่องอัดอากาศ ซึ่งแสดงอยู่ในภาคผนวก 1 ตารางเปรียบเทียบเครื่องอัดอากาศประเภทต่างๆ (ดูวิธีตรวจวัดข้อ 4.1) | E4: ทุก 3 เดือน | F4: ค่าประสิทธิภาพเครื่องอัดอากาศ | G4: ค่าประสิทธิภาพเครื่องอัดอากาศ | H4: ( ) ผ่าน | I4: O เปลี่ยนเครื่องอัดอากาศที่มีประสิทธิภาพสูงขึ้น
F5: (ดูจากภาคผนวก 1) | G5: (จากการตรวจวัดตามข้อ 4.1.2) | H5: ( ) ไม่ผ่าน | I5: O เลือกใช้เครื่องอัดอากาศที่มีประสิทธิภาพสูงก่อน (กรณีมีหลายเครื่อง)
F6: = ….....................… (l/s/kW) | G6: = ….....................… (l/s/kW)
C8: 2 | D8: ประสิทธิภาพ การส่งพลังงานอากาศอัดในระบบท่อส่ง สูงกว่า 90 % เมื่อเทียบกับปริมาณอากาศที่ใช้ (ไม่ใช่ปริมาณอากาศอัดที่ผลิต) (ดูวิธีตรวจวัดข้อ 4.2) | E8: ทุก 3 เดือน | H8: ( ) ผ่าน | I8: O ตรวจสอบจุดรั่วไหล และดำเนินการแก้ไข
F9: > 90%(หรือรั่วไม่เกิน 10%) | G9: = ….....................…% | H9: ( ) ไม่ผ่าน
C11: 3 | D11: ค่าตั้งความดันอากาศอัดด้านต่ำ (On) สูงกว่าความดันใช้งานของกระบวนการไม่เกิน 1 bar และค่าตั้งความดันอากาศอัดด้านสูง (Off) สูงกว่าด้านต่ำไม่เกิน 1 bar (ดูวิธีตรวจวัดข้อ 4.3) | E11: ทุก 1 สัปดาห์ | F11: ความดันใช้งานที่สูงที่สุด | G11: ค่าตั้งความดันด้านต่ำ ........... บาร์ | H11: ( ) ผ่าน | I11: O ลดความดันของอากาศลงสูงกว่าด้านต่ำไม่เกิน 1 บาร์
F12: ในกระบวนการผลิต | G12: ค่าตั้งความดันด้านสูง .......... บาร์ | H12: ( ) ไม่ผ่าน | I12: O ตรวจสอบแก้ไข เพิ่มขนาดท่อส่งอากาศอัด
F13: = ............................... บาร์ | I13: O พิจารณาเพิ่มถังพักอากาศอัด
F14: ค่าเกณฑ์ด้านต่ำ.....บาร์ | I14: O แยกระบบผลิตอากาศเป็นระบบความดันสูงและความดันต่ำ
F15: ค่าเกณฑ์ด้านสูง......บาร์ | I15: O เชื่อมต่อท่อให้เป็นวงแหวน
I16: O ใช้เครื่องอัดอากาศขนาดเล็กเพื่อใช้งานเฉพาะจุดที่ต้องการความดันสูง
C17: 4 | D17: อุณหภูมิอากาศด้านดูดเข้าเครื่อง สูงกว่าอุณหภูมิภายนอกห้องในที่ร่มไม่เกิน 3 องศาเซลเซียส และช่องดูดอากาศเข้าไม่ใกล้แหล่งความชื้น (ดูวิธีตรวจวัดข้อ 4.4) | E17: ทุก 1 สัปดาห์ | F17: อุณหภูมิอากาศภายนอก | G17: อุณหภูมิอากาศในห้องปั้มลม | H17: ( ) ผ่าน | I17: O ปรับปรุงระบบระบายความร้อนห้องปั้มลม
F18: = ............. oC (X) | G18: = ................. oC | H18: ( ) ไม่ผ่าน
F19: ค่าตามเกณฑ์ = .......... oC | G19: (ไม่ควรเกินเกณฑ์ (X+3) oC)
F20: (X+3) oC
C21: 5 | D21: เครื่องอัดอากาศ มีค่าช่วงเวลาเดิน ตัวเปล่า ไม่เกิน 10 % (หรือแบบที่มีการใช้พลังงานช่วง Unload) (ดูวิธีตรวจวัดข้อ 4.5) | E21: ทุก 3 เดือน | F21: < 10% | G21: = ................. % | H21: ( ) ผ่าน | I21: O พิจารณาเพิ่มถังเก็บอากาศอัด หรือเปลี่ยนขนาดปั้มลม
H22: ( ) ไม่ผ่าน
C23: 6 | D23: ติดตั้งวาล์ว ด้านจ่ายอากาศอัดออกจากถัง เข้าสู่ระบบ และติดป้าย “ปิดวาล์วทุกครั้งหลังเลิกงาน และเปิดวาล์วไล่น้ำทุกครั้งก่อนทำงาน” (วิธีตรวจวัดข้อ 4.6) | E23: ทุกวัน | F23: มีการปิดทุกวัน | G23: ผล................................. | H23: ( ) ผ่าน | I23: O จัดทำข้อกำหนดและผู้รับผิดชอบในการเปิด-ปิดวาล์ว
H24: ( ) ไม่ผ่าน

Sheet Form 13
C1: แบบฟอร์มที่ 13 แนวทางการบำรุงรักษาเครื่องอัดอากาศ
C3: ข้อ | D3: จุดตรวจสอบและบำรุงรักษา | E3: ความถี่ในการตรวจวัด | F3: ผลการประเมิน/ดำเนินการ | G3: แนวทางการแก้ไข
C5: 1 | D5: ระดับน้ำมันของเครื่องอัดอากาศ | E5: ทุกสัปดาห์ | F5: ( ) ผ่าน ( ) ไม่ผ่าน | G5: ถ้าน้ำมันต่ำกว่าระดับให้เติมถึงระดับที่กำหนด
C6: 2 | D6: ตรวจสอบ วาล์วนิรภัย | E6: ทุกสัปดาห์ | F6: ( ) ผ่าน ( ) ไม่ผ่าน | G6: ถ้าวาล์วนิรภัยไม่ทำงานให้ทำการเปลี่ยนวาล์ว
C7: 3 | D7: ตรวจสอบ Auto drain ของถังอากาศอัด | E7: ทุกสัปดาห์ | F7: ( ) ผ่าน ( ) ไม่ผ่าน | G7: ถ้ารั่ว หรือไม่ทำงานให้ทำการแก้ไขหรือเปลี่ยน
C8: 4 | D8: ตรวจสอบ Auto drain ของ Air dryer | E8: ทุกสัปดาห์ | F8: ( ) ผ่าน ( ) ไม่ผ่าน | G8: ถ้ารั่ว หรือไม่ทำงานให้ทำการแก้ไขหรือเปลี่ยน
C9: 5 | D9: ตรวจสอบ ความดันตกคร่อม Air Filter | E9: ทุกสัปดาห์ | F9: ( ) ผ่าน ( ) ไม่ผ่าน | G9: ถ้าตกคร่อมเกินค่าที่ผู้ผลิตแนะนำ ให้ทำการเปลี่ยน
C10: 6 | D10: ตรวจสอบ Auto drain ไม่ปล่อยอากาศอัดทิ้งมากเกินไป | E10: ทุกสัปดาห์ | F10: ( ) ผ่าน ( ) ไม่ผ่าน | G10: ปรับตั้งเวลา Timer ให้เหมาะสม
C11: 7 | D11: ตรวจสอบ การทำงาน Auto drain | E11: ทุกสัปดาห์ | F11: ( ) ผ่าน ( ) ไม่ผ่าน | G11: ถ้าไม่มีทำงานให้ทำการแก้ไขหรือเปลี่ยน
C12: 8 | D12: ทำความสะอาดไส้กรองอากาศ | E12: ทุกเดือน | F12: ( ) ดำเนินการ วันที่...................
C13: 9 | D13: ทำความสะอาดชุดระบายความร้อน intercooler (ถ้ามี) | E13: ทุกเดือน | F13: ( ) ดำเนินการ วันที่...................
C14: 10 | D14: ทำความสะอาดชุดระบายความร้อน after-cooler | E14: ทุกเดือน | F14: ( ) ดำเนินการ วันที่...................
C15: 11 | D15: ตรวจสอบ ระบบส่งกำลังของเครื่องอัดอากาศ | E15: ทุกเดือน | F15: ( ) ผ่าน ( ) ไม่ผ่าน | G15: ปรับความตึงของสายพานให้เหมาะสม
C16: 12 | D16: ตรวจสอบประสิทธิภาพของเครื่องมือที่ใช้ลม | E16: ทุกเดือน | F16: ( ) ผ่าน ( ) ไม่ผ่าน | G16: เปลี่ยนใบพัดเครื่องมือเกิดการสึกหรอหรือกำลังในการขับน้อย
C17: 13 | D17: เปลี่ยนน้ำมันของเครื่องอัดอากาศ | E17: ทุก 3 เดือน | F17: ( ) ดำเนินการ วันที่...................
C18: 14 | D18: เปลี่ยนไส้กรองอากาศ | E18: ทุก 6 เดือน | F18: ( ) ดำเนินการ วันที่...................
